BEGIN:VCALENDAR
VERSION:2.0
PRODID:-//VFD Team OWL - ECPv6.15.20//NONSGML v1.0//EN
CALSCALE:GREGORIAN
METHOD:PUBLISH
X-WR-CALNAME:VFD Team OWL
X-ORIGINAL-URL:https://vfd-owl.de
X-WR-CALDESC:Veranstaltungen für VFD Team OWL
REFRESH-INTERVAL;VALUE=DURATION:PT1H
X-Robots-Tag:noindex
X-PUBLISHED-TTL:PT1H
BEGIN:VTIMEZONE
TZID:Europe/Berlin
BEGIN:DAYLIGHT
TZOFFSETFROM:+0100
TZOFFSETTO:+0200
TZNAME:CEST
DTSTART:20240331T010000
END:DAYLIGHT
BEGIN:STANDARD
TZOFFSETFROM:+0200
TZOFFSETTO:+0100
TZNAME:CET
DTSTART:20241027T010000
END:STANDARD
BEGIN:DAYLIGHT
TZOFFSETFROM:+0100
TZOFFSETTO:+0200
TZNAME:CEST
DTSTART:20250330T010000
END:DAYLIGHT
BEGIN:STANDARD
TZOFFSETFROM:+0200
TZOFFSETTO:+0100
TZNAME:CET
DTSTART:20251026T010000
END:STANDARD
BEGIN:DAYLIGHT
TZOFFSETFROM:+0100
TZOFFSETTO:+0200
TZNAME:CEST
DTSTART:20260329T010000
END:DAYLIGHT
BEGIN:STANDARD
TZOFFSETFROM:+0200
TZOFFSETTO:+0100
TZNAME:CET
DTSTART:20261025T010000
END:STANDARD
END:VTIMEZONE
BEGIN:VEVENT
DTSTART;TZID=Europe/Berlin:20251101T110000
DTEND;TZID=Europe/Berlin:20251101T140000
DTSTAMP:20260420T190345
CREATED:20250418T123217Z
LAST-MODIFIED:20251007T083904Z
UID:751-1761994800-1762005600@vfd-owl.de
SUMMARY:Punsch-Ritt
DESCRIPTION:Wir laden euch herzlich zu unserem Punsch-Ritt ein. \nWir werden am 01.11.2025 in der Zeit von 11 bis 14 Uhr an der Maibolte Lemgo für euch mit warmen Getränken bereit stehen. \nWie läuft die Veranstaltung ab? \nIhr Parkt in der Nähe der Maibolte Lemgo oder startet von eurem Stall aus. Ihr dürft reitend\, säumend(wandernd/spazierend) und je nach Weg auch kutschfahrend zu uns kommen. Ihr sucht euch eure Route selber raus. Es soll ein wenig wie ein Sternritt sein\, um einfach mal in Richtung Wanderreiten reinzuschnuppern. Sucht euch gerne Begleiter mit Hund oder Pferd\, dann macht es noch mehr Spaß. Sobald ihr bei uns an der Maibolte angekommen seid\, wärmen wir euch mit verschiedenen Warmgetränken wieder auf. Danach brecht ihr entweder noch eine Runde durch den Stadtwald Lemgo oder wieder zu eurem Startpunkt auf. \nBeachtet bitte\, dass der Stadtwald Lemgo der in NRW gültigen Reitverordnung unterliegt. Reitplaketten sind Pflicht und werden hier auch regelmäßig vom Forst kontrolliert. \nUm einen Parkplatz für eurer Gespann zu finden\, könnt ihr die Parkplätze am Friedhof Lüningheide (Weißer Weg\, Lemgo;  bis ganz oben zum Friedhof durch fahren oder Sportplatz Lüerdissen\, Steinkamp\, Lemgo) nutzen. Tut euch gerne zusammen\, damit möglichst wenige Gespanne auf den Parkflächen stehen. Es gibt auch eine begrenzte Anzahl an Gespann Parkplätzen an der Maibolte. Sprecht uns dafür bitte an\, wenn ihr dort direkt parken möchtet. Ihr könnt auch z.B.  an eurem Stall los reiten und euch an der Maibolte mit dem Anhänger abholen lassen. Die Startplätze sind bitte so zu verlassen\, wie sie vorgefunden wurden\, damit wir auch in Zukunft weiter die Möglichkeit haben Veranstaltungen zu organisieren. \nUnser Sparschwein freut sich gerne über ein paar Taler vor Ort. \nWir behalten uns vor\, die Veranstaltung kurzfristig aufgrund von Unwetter etc. abzusagen.
URL:https://vfd-owl.de/event/punschritt/
LOCATION:Maibolte\, Zum Kompostwerk 200\, Lemgo\, NRW\, 32657\, Germany
CATEGORIES:Ausritt
ORGANIZER;CN="VFD OWL":MAILTO:info@vfd-owl.de
END:VEVENT
BEGIN:VEVENT
DTSTART;TZID=Europe/Berlin:20251115T180000
DTEND;TZID=Europe/Berlin:20251115T200000
DTSTAMP:20260420T190345
CREATED:20250915T174235Z
LAST-MODIFIED:20250915T175624Z
UID:1026-1763229600-1763236800@vfd-owl.de
SUMMARY:Themenabend "Rund um die Fütterung"
DESCRIPTION:Jeder kennt sie\, die Frage: Was braucht ein Pferd? Einiges liegt nah auf der Hand\, anderes ist vielleicht nicht so leicht so sehen\, gerade wenn Erkrankungen im Spiel sind. \nAn diesem Abend dreht sich alles rund um die Fütterung unserer geliebten Pferde. Geleitet wird der Vortrag von der unabhängigen Futtermittelberaterin Juliane Ernst. Wir freuen uns auf einen informativen Austausch bei Essen und Trinken (Selbstzahler). \nMitglieder zahlen 2\,50€\, Nichtmitglieder 5\,00€.
URL:https://vfd-owl.de/event/themenabend-rund-um-die-fuetterung/
LOCATION:Lindenkrug Hohenhausen\, Lemgoer Str. 64\, Hohenhausen\, 32689
CATEGORIES:Stammtisch
ORGANIZER;CN="VFD OWL":MAILTO:info@vfd-owl.de
END:VEVENT
END:VCALENDAR