BEGIN:VCALENDAR
VERSION:2.0
PRODID:-//VFD Team OWL - ECPv6.15.20//NONSGML v1.0//EN
CALSCALE:GREGORIAN
METHOD:PUBLISH
X-WR-CALNAME:VFD Team OWL
X-ORIGINAL-URL:https://vfd-owl.de
X-WR-CALDESC:Veranstaltungen für VFD Team OWL
REFRESH-INTERVAL;VALUE=DURATION:PT1H
X-Robots-Tag:noindex
X-PUBLISHED-TTL:PT1H
BEGIN:VTIMEZONE
TZID:Europe/Berlin
BEGIN:DAYLIGHT
TZOFFSETFROM:+0100
TZOFFSETTO:+0200
TZNAME:CEST
DTSTART:20220327T010000
END:DAYLIGHT
BEGIN:STANDARD
TZOFFSETFROM:+0200
TZOFFSETTO:+0100
TZNAME:CET
DTSTART:20221030T010000
END:STANDARD
BEGIN:DAYLIGHT
TZOFFSETFROM:+0100
TZOFFSETTO:+0200
TZNAME:CEST
DTSTART:20230326T010000
END:DAYLIGHT
BEGIN:STANDARD
TZOFFSETFROM:+0200
TZOFFSETTO:+0100
TZNAME:CET
DTSTART:20231029T010000
END:STANDARD
BEGIN:DAYLIGHT
TZOFFSETFROM:+0100
TZOFFSETTO:+0200
TZNAME:CEST
DTSTART:20240331T010000
END:DAYLIGHT
BEGIN:STANDARD
TZOFFSETFROM:+0200
TZOFFSETTO:+0100
TZNAME:CET
DTSTART:20241027T010000
END:STANDARD
END:VTIMEZONE
BEGIN:VEVENT
DTSTART;TZID=Europe/Berlin:20230315T190000
DTEND;TZID=Europe/Berlin:20230315T220000
DTSTAMP:20260423T004922
CREATED:20230104T203330Z
LAST-MODIFIED:20230309T081058Z
UID:373-1678906800-1678917600@vfd-owl.de
SUMMARY:Stammtisch Bielefeld/Gütersloh zum Thema "Pferdefütterung früher und heute"
DESCRIPTION:Unser Special Guest im März ist Jessica Zeymer\, die uns einen Einblick in Grundlagen und Entwicklung der Pferdefütterung geben wird. Jessica hat seit 26 mit Pferden zu tun und orientiert sich bei ihrer Arbeit gern an den Grundsätzen der Bückeburger Hofreitschule. Seit 2018 ist sie diplomierte Pferdeverhaltenstherapeutin\, seit 2021 Ernährungsberaterin für Pferde und aktuell absolviert sie das Masterclass-Seminar bei Conny Röhm. \nWir freuen uns auf leckeres Essen im Wirtshaus 1802 und gute Gespräche über die optimale Fütterung unserer Vierbeiner. \nAnmeldungen gerne unter pustepony@sdirekt-net.de (oder die anderen bekannten Kanäle  )
URL:https://vfd-owl.de/event/stammtisch-bielefeld-guetersloh-zum-thema-pferdefuetterung-frueher-und-heute/
LOCATION:Wirtshaus 1802\, Kurt-Schumacher-Str. 17a\, Bielefeld\, 33615\, Deutschland
CATEGORIES:Stammtisch
ORGANIZER;CN="VFD OWL":MAILTO:info@vfd-owl.de
END:VEVENT
END:VCALENDAR