BEGIN:VCALENDAR
VERSION:2.0
PRODID:-//VFD Team OWL - ECPv6.15.20//NONSGML v1.0//EN
CALSCALE:GREGORIAN
METHOD:PUBLISH
X-WR-CALNAME:VFD Team OWL
X-ORIGINAL-URL:https://vfd-owl.de
X-WR-CALDESC:Veranstaltungen für VFD Team OWL
REFRESH-INTERVAL;VALUE=DURATION:PT1H
X-Robots-Tag:noindex
X-PUBLISHED-TTL:PT1H
BEGIN:VTIMEZONE
TZID:Europe/Berlin
BEGIN:DAYLIGHT
TZOFFSETFROM:+0100
TZOFFSETTO:+0200
TZNAME:CEST
DTSTART:20210328T010000
END:DAYLIGHT
BEGIN:STANDARD
TZOFFSETFROM:+0200
TZOFFSETTO:+0100
TZNAME:CET
DTSTART:20211031T010000
END:STANDARD
BEGIN:DAYLIGHT
TZOFFSETFROM:+0100
TZOFFSETTO:+0200
TZNAME:CEST
DTSTART:20220327T010000
END:DAYLIGHT
BEGIN:STANDARD
TZOFFSETFROM:+0200
TZOFFSETTO:+0100
TZNAME:CET
DTSTART:20221030T010000
END:STANDARD
BEGIN:DAYLIGHT
TZOFFSETFROM:+0100
TZOFFSETTO:+0200
TZNAME:CEST
DTSTART:20230326T010000
END:DAYLIGHT
BEGIN:STANDARD
TZOFFSETFROM:+0200
TZOFFSETTO:+0100
TZNAME:CET
DTSTART:20231029T010000
END:STANDARD
END:VTIMEZONE
BEGIN:VEVENT
DTSTART;TZID=Europe/Berlin:20220930T183000
DTEND;TZID=Europe/Berlin:20220930T210000
DTSTAMP:20260423T113912
CREATED:20220827T182326Z
LAST-MODIFIED:20220827T182326Z
UID:318-1664562600-1664571600@vfd-owl.de
SUMMARY:Jahreshauptversammlung 2022
DESCRIPTION:  \nEinladung zur Jahreshauptversammlung als PDF: JHV 2022
URL:https://vfd-owl.de/event/jahreshauptversammlung-2022/
LOCATION:Leeser Krug\, Wittighöfer Str. 9\, 32657 Lemgo\, Wittighöfer Str. 9\, Lemgo\, NRW\, 32657\, Deutschland
CATEGORIES:Treffen
ORGANIZER;CN="VFD OWL":MAILTO:info@vfd-owl.de
END:VEVENT
END:VCALENDAR