BEGIN:VCALENDAR
VERSION:2.0
PRODID:-//VFD Team OWL - ECPv6.15.20//NONSGML v1.0//EN
CALSCALE:GREGORIAN
METHOD:PUBLISH
X-ORIGINAL-URL:https://vfd-owl.de
X-WR-CALDESC:Veranstaltungen für VFD Team OWL
REFRESH-INTERVAL;VALUE=DURATION:PT1H
X-Robots-Tag:noindex
X-PUBLISHED-TTL:PT1H
BEGIN:VTIMEZONE
TZID:Europe/Berlin
BEGIN:DAYLIGHT
TZOFFSETFROM:+0100
TZOFFSETTO:+0200
TZNAME:CEST
DTSTART:20250330T010000
END:DAYLIGHT
BEGIN:STANDARD
TZOFFSETFROM:+0200
TZOFFSETTO:+0100
TZNAME:CET
DTSTART:20251026T010000
END:STANDARD
BEGIN:DAYLIGHT
TZOFFSETFROM:+0100
TZOFFSETTO:+0200
TZNAME:CEST
DTSTART:20260329T010000
END:DAYLIGHT
BEGIN:STANDARD
TZOFFSETFROM:+0200
TZOFFSETTO:+0100
TZNAME:CET
DTSTART:20261025T010000
END:STANDARD
BEGIN:DAYLIGHT
TZOFFSETFROM:+0100
TZOFFSETTO:+0200
TZNAME:CEST
DTSTART:20270328T010000
END:DAYLIGHT
BEGIN:STANDARD
TZOFFSETFROM:+0200
TZOFFSETTO:+0100
TZNAME:CET
DTSTART:20271031T010000
END:STANDARD
END:VTIMEZONE
BEGIN:VEVENT
DTSTART;TZID=Europe/Berlin:20260307T180000
DTEND;TZID=Europe/Berlin:20260307T210000
DTSTAMP:20260420T151216
CREATED:20260102T172234Z
LAST-MODIFIED:20260220T073307Z
UID:1067-1772906400-1772917200@vfd-owl.de
SUMMARY:Themenabend "Trageerschöpfung"
DESCRIPTION:Termin verschoben! Neuer Termin ist der 7.3.26!!! \nNeuanmeldungen sind möglich. Bitte per Mail an info@vfd-owl.de \n  \nJeder hat es schon gehört oder damit zu tun gehabt: \nDie Trageerschöpfung. An diesen Abend möchten wir uns zusammen diesem Thema nähern und gucken was das ist\, wie es verhindert oder wieder korregiert werden kann. \nJulia Schur (harmony-in-movement.de) Tierheilpraktikerin\, Physio-und Chiropraktikerin und osteopathische Sattelanpasserin wird uns bei Essen und Trinken (Selbstzahler) an diesem Abend durch dieses spannende Thema führen. \nMitglieder zahlen 2\,50€\, Nichtmitglieder zahlen 5€ für die Teilnahme.
URL:https://vfd-owl.de/event/themenabend-trageerschoepfung/
LOCATION:Lindenkrug Hohenhausen\, Lemgoer Str. 64\, Hohenhausen\, 32689
ORGANIZER;CN="VFD OWL":MAILTO:info@vfd-owl.de
END:VEVENT
END:VCALENDAR