BEGIN:VCALENDAR
VERSION:2.0
PRODID:-//VFD Team OWL - ECPv6.15.20//NONSGML v1.0//EN
CALSCALE:GREGORIAN
METHOD:PUBLISH
X-WR-CALNAME:VFD Team OWL
X-ORIGINAL-URL:https://vfd-owl.de
X-WR-CALDESC:Veranstaltungen für VFD Team OWL
REFRESH-INTERVAL;VALUE=DURATION:PT1H
X-Robots-Tag:noindex
X-PUBLISHED-TTL:PT1H
BEGIN:VTIMEZONE
TZID:Europe/Berlin
BEGIN:DAYLIGHT
TZOFFSETFROM:+0100
TZOFFSETTO:+0200
TZNAME:CEST
DTSTART:20240331T010000
END:DAYLIGHT
BEGIN:STANDARD
TZOFFSETFROM:+0200
TZOFFSETTO:+0100
TZNAME:CET
DTSTART:20241027T010000
END:STANDARD
BEGIN:DAYLIGHT
TZOFFSETFROM:+0100
TZOFFSETTO:+0200
TZNAME:CEST
DTSTART:20250330T010000
END:DAYLIGHT
BEGIN:STANDARD
TZOFFSETFROM:+0200
TZOFFSETTO:+0100
TZNAME:CET
DTSTART:20251026T010000
END:STANDARD
BEGIN:DAYLIGHT
TZOFFSETFROM:+0100
TZOFFSETTO:+0200
TZNAME:CEST
DTSTART:20260329T010000
END:DAYLIGHT
BEGIN:STANDARD
TZOFFSETFROM:+0200
TZOFFSETTO:+0100
TZNAME:CET
DTSTART:20261025T010000
END:STANDARD
END:VTIMEZONE
BEGIN:VEVENT
DTSTART;TZID=Europe/Berlin:20250930T190000
DTEND;TZID=Europe/Berlin:20250930T210000
DTSTAMP:20260420T224016
CREATED:20250418T122041Z
LAST-MODIFIED:20250418T122041Z
UID:749-1759258800-1759266000@vfd-owl.de
SUMMARY:Stammtisch
DESCRIPTION:Ab 19.00 Uhr treffen wir uns im Lindenkrug zu einem weiteren Stammtisch. \nFür alle Interessierten. Auch Nichtmitglieder sind herzlich willkommen. Es gibt einen Rückblick und die weiteren Termine werden vorgestellt. \nThemenvorschläge\, Anregungen und Wünsche für die regionale Planung nehmen wir gerne entgegen.
URL:https://vfd-owl.de/event/stammtisch-8/
LOCATION:Lindenkrug Hohenhausen\, Lemgoer Str. 64\, Hohenhausen\, 32689
CATEGORIES:Stammtisch
ORGANIZER;CN="VFD OWL":MAILTO:info@vfd-owl.de
END:VEVENT
END:VCALENDAR