BEGIN:VCALENDAR
VERSION:2.0
PRODID:-//VFD Team OWL - ECPv6.15.20//NONSGML v1.0//EN
CALSCALE:GREGORIAN
METHOD:PUBLISH
X-ORIGINAL-URL:https://vfd-owl.de
X-WR-CALDESC:Veranstaltungen für VFD Team OWL
REFRESH-INTERVAL;VALUE=DURATION:PT1H
X-Robots-Tag:noindex
X-PUBLISHED-TTL:PT1H
BEGIN:VTIMEZONE
TZID:Europe/Berlin
BEGIN:DAYLIGHT
TZOFFSETFROM:+0100
TZOFFSETTO:+0200
TZNAME:CEST
DTSTART:20220327T010000
END:DAYLIGHT
BEGIN:STANDARD
TZOFFSETFROM:+0200
TZOFFSETTO:+0100
TZNAME:CET
DTSTART:20221030T010000
END:STANDARD
BEGIN:DAYLIGHT
TZOFFSETFROM:+0100
TZOFFSETTO:+0200
TZNAME:CEST
DTSTART:20230326T010000
END:DAYLIGHT
BEGIN:STANDARD
TZOFFSETFROM:+0200
TZOFFSETTO:+0100
TZNAME:CET
DTSTART:20231029T010000
END:STANDARD
BEGIN:DAYLIGHT
TZOFFSETFROM:+0100
TZOFFSETTO:+0200
TZNAME:CEST
DTSTART:20240331T010000
END:DAYLIGHT
BEGIN:STANDARD
TZOFFSETFROM:+0200
TZOFFSETTO:+0100
TZNAME:CET
DTSTART:20241027T010000
END:STANDARD
END:VTIMEZONE
BEGIN:VEVENT
DTSTART;TZID=Europe/Berlin:20230514T100000
DTEND;TZID=Europe/Berlin:20230514T130000
DTSTAMP:20260423T005635
CREATED:20230410T165120Z
LAST-MODIFIED:20230410T165120Z
UID:404-1684058400-1684069200@vfd-owl.de
SUMMARY:Jahreshauptversammlung 2023
DESCRIPTION:Hallo VFD-ler\,\nwir laden Euch herzlich ein\, am Sonntag\, den 14.05.2023 um 10:00Uhr\, zur jährlichen Mitgliederversammlung der VFD OWL e.V. in den Leeser Krug\, Wittighöfer Str. 9\, 32657 Lemgo zu kommen.\n\n\nNeben den üblichen Tagesordnungspunkten stehen auch (Neu)wahlen an\, daher bitten wir um rege Teilnahme.\n\n\nNach der Sitzung findet ein gemütlicher Ausklang mit Speisen statt\, daher bitten wir um Anmeldung bis zum 07.05.2023 unter 01714743122 (Anruf oder Whatsapp) oder jenssheep@yahoo.de\, damit wir den Ablauf mit der Küche abstimmen können! Bitte mit Name (und Mitgliedsnummer) jedes Mitgliedes und Gastes.\n\n\nWir freuen uns auf Euch!\n\n\nEuer Vorstand der VFD OWL e.V.
URL:https://vfd-owl.de/event/jahreshauptversammlung-2023/
LOCATION:Leeser Krug\, Wittighöfer Str. 9\, 32657 Lemgo\, Wittighöfer Str. 9\, Lemgo\, NRW\, 32657\, Deutschland
CATEGORIES:Treffen
ORGANIZER;CN="VFD OWL":MAILTO:info@vfd-owl.de
END:VEVENT
END:VCALENDAR